BEGIN:VCALENDAR
VERSION:2.0
PRODID:spatie/icalendar-generator
NAME:Termine in Raisting
X-WR-CALNAME:Termine in Raisting
BEGIN:VTIMEZONE
TZID:Europe/Berlin
BEGIN:STANDARD
DTSTART:20251026T030000
TZOFFSETFROM:+0200
TZOFFSETTO:+0100
END:STANDARD
BEGIN:DAYLIGHT
DTSTART:20260329T010000
TZOFFSETFROM:+0100
TZOFFSETTO:+0200
END:DAYLIGHT
BEGIN:STANDARD
DTSTART:20261025T030000
TZOFFSETFROM:+0200
TZOFFSETTO:+0100
END:STANDARD
END:VTIMEZONE
BEGIN:VTIMEZONE
TZID:UTC
BEGIN:STANDARD
DTSTART:20250724T015146
TZOFFSETFROM:+0000
TZOFFSETTO:+0000
END:STANDARD
END:VTIMEZONE
BEGIN:VEVENT
UID:69e586b2a3212
DTSTAMP:20260420T015146Z
SUMMARY:Führung in der Gärtnerei Scherdi 
DESCRIPTION:Die Gärtnerei Scherdi in Hofstetten lädt den Gartenbau- und O
 rtsverschönerungs-Verein zu einer Führung durch den Betrieb ein. Treffpu
 nkt ist um 14:30 Uhr auf dem Parkplatz der Gärtnerei. Die Anfahrt erfolgt
  in Eigenregie. Anmeldung und weitere Informationen bei Franz Schütz\, TE
 L. 08807 7735.
LOCATION:Hofstetten 
URL:https://raisting.de/veranstaltungen
DTSTART;TZID=Europe/Berlin:20260424T143000
DTEND;TZID=Europe/Berlin:20260424T160000
END:VEVENT
END:VCALENDAR