BEGIN:VCALENDAR
VERSION:2.0
PRODID:spatie/icalendar-generator
NAME:Termine in Raisting
X-WR-CALNAME:Termine in Raisting
BEGIN:VTIMEZONE
TZID:Europe/Berlin
BEGIN:STANDARD
DTSTART:20251026T030000
TZOFFSETFROM:+0200
TZOFFSETTO:+0100
END:STANDARD
BEGIN:DAYLIGHT
DTSTART:20260329T010000
TZOFFSETFROM:+0100
TZOFFSETTO:+0200
END:DAYLIGHT
BEGIN:STANDARD
DTSTART:20261025T030000
TZOFFSETFROM:+0200
TZOFFSETTO:+0100
END:STANDARD
END:VTIMEZONE
BEGIN:VTIMEZONE
TZID:UTC
BEGIN:STANDARD
DTSTART:20250729T133622
TZOFFSETFROM:+0000
TZOFFSETTO:+0000
END:STANDARD
END:VTIMEZONE
BEGIN:VEVENT
UID:69ecc356f1a57
DTSTAMP:20260425T133622Z
SUMMARY:\"Mitm Radl in und um Roaschding\" beim Heimat.Erlebnistag
DESCRIPTION:Im Rahmen vom Heimat.Erlebnistag am 03. Mai 2026 bietet unsere 
 Abteilung Heimat eine Fahrradtour an. Das Motto ist “Mitm Radl in und um
  Roaschding”. Sie findet von 14:00 - 16:00 Uhr statt.\nStart der Fahrrad
 tour ist das Heimatmuseum. Herrenstraße 13 - Raisting\nSie findet nur bei
  gutem Wetter (auch bei \"leichtem Tröpfeln\") statt.
LOCATION:Start: Heimatmuseum\, Herrenstraße 13
URL:https://raisting.de/veranstaltungen
DTSTART;TZID=Europe/Berlin:20260503T140000
DTEND;TZID=Europe/Berlin:20260503T160000
END:VEVENT
END:VCALENDAR