BEGIN:VCALENDAR
VERSION:2.0
PRODID:spatie/icalendar-generator
NAME:Termine in Raisting
X-WR-CALNAME:Termine in Raisting
BEGIN:VTIMEZONE
TZID:Europe/Berlin
BEGIN:STANDARD
DTSTART:20251026T030000
TZOFFSETFROM:+0200
TZOFFSETTO:+0100
END:STANDARD
BEGIN:DAYLIGHT
DTSTART:20260329T010000
TZOFFSETFROM:+0100
TZOFFSETTO:+0200
END:DAYLIGHT
BEGIN:STANDARD
DTSTART:20261025T030000
TZOFFSETFROM:+0200
TZOFFSETTO:+0100
END:STANDARD
END:VTIMEZONE
BEGIN:VTIMEZONE
TZID:UTC
BEGIN:STANDARD
DTSTART:20250728T132524
TZOFFSETFROM:+0000
TZOFFSETTO:+0000
END:STANDARD
END:VTIMEZONE
BEGIN:VEVENT
UID:69eb6f44dbd74
DTSTAMP:20260424T132524Z
SUMMARY:Volkstanz mit der Hochberghauser Tanzlmusi
DESCRIPTION:Am Samstag\, den 25.04.2026 findet wieder unser Volkstanz im Ga
 sthof zur Post in Raisting statt. Beginn ist um 20 Uhr.\nEs spielt die Hoc
 hberghauser Tanzlmusi. Die Musikanten der Hochberghauser Tanzlmusi kommen 
 aus Hochstadt\, Starnberg und Unterhausen.\nDer Eintritt beträgt 12€ f
 ür Erwachsene und 8€ für Jugendliche.\nReservierungen sind unter 08807
 /4526 möglich. Spontane Volkstanz-Besucher sind jederzeit herzlich willko
 mmen.\nUnser Tanzleiter Roland Happach führt die verschiedenen Volkstänz
 e vor. Wenn ihr aber noch ein paar Volkstänze oder die Francaise erlernen
  oder auffrischen wollt\, kommt gerne zu einem unserer Volkstanz-Übungsab
 ende am 12.04.2026 oder 19.04.2026.
LOCATION:Gasthof zur Post
URL:https://raisting.de/veranstaltungen
DTSTART;TZID=Europe/Berlin:20260425T200000
DTEND;TZID=Europe/Berlin:20260425T200000
END:VEVENT
END:VCALENDAR